BEGIN:VCALENDAR
VERSION:2.0
PRODID:-//Recreational Diving Society - ECPv6.15.20//NONSGML v1.0//EN
CALSCALE:GREGORIAN
METHOD:PUBLISH
X-ORIGINAL-URL:https://recreationaldiving.be
X-WR-CALDESC:Events for Recreational Diving Society
REFRESH-INTERVAL;VALUE=DURATION:PT1H
X-Robots-Tag:noindex
X-PUBLISHED-TTL:PT1H
BEGIN:VTIMEZONE
TZID:Europe/Brussels
BEGIN:DAYLIGHT
TZOFFSETFROM:+0100
TZOFFSETTO:+0200
TZNAME:CEST
DTSTART:20250330T010000
END:DAYLIGHT
BEGIN:STANDARD
TZOFFSETFROM:+0200
TZOFFSETTO:+0100
TZNAME:CET
DTSTART:20251026T010000
END:STANDARD
BEGIN:DAYLIGHT
TZOFFSETFROM:+0100
TZOFFSETTO:+0200
TZNAME:CEST
DTSTART:20260329T010000
END:DAYLIGHT
BEGIN:STANDARD
TZOFFSETFROM:+0200
TZOFFSETTO:+0100
TZNAME:CET
DTSTART:20261025T010000
END:STANDARD
BEGIN:DAYLIGHT
TZOFFSETFROM:+0100
TZOFFSETTO:+0200
TZNAME:CEST
DTSTART:20270328T010000
END:DAYLIGHT
BEGIN:STANDARD
TZOFFSETFROM:+0200
TZOFFSETTO:+0100
TZNAME:CET
DTSTART:20271031T010000
END:STANDARD
END:VTIMEZONE
BEGIN:VEVENT
DTSTART;TZID=Europe/Brussels:20260904T190000
DTEND;TZID=Europe/Brussels:20260906T160000
DTSTAMP:20260425T223430
CREATED:20260122T103637Z
LAST-MODIFIED:20260122T104257Z
UID:4459-1788548400-1788710400@recreationaldiving.be
SUMMARY:Duikweekend
DESCRIPTION:Na de succesvolle duikweekends in de Ardennen van de laatste 2 jaren verhuizen we het duikweekend van september eens naar de andere kant van het land. \nWe gaan op zaterdag duiken in de steengroeves van La Gombe en Sprimont. \nOp zondag trekken we de grens over richting Boschmolenplas waar er meerdere duiken kunnen gemaakt worden tussen de vele afgezonken voorwerpen… \nPRAKTISCH \nAlle info volg binnenkort. Hou de nieuwsbrief in de gaten!
URL:https://recreationaldiving.be/activiteit/duikweekend/
LOCATION:La Gombe\, Chera de la Gombe\, Esneux\, Luik\, 4130\, België
ATTACH;FMTTYPE=image/jpeg:https://recreationaldiving.be/wp-content/uploads/2025/03/boschmolen.jpg
END:VEVENT
BEGIN:VEVENT
DTSTART;TZID=Europe/Brussels:20260918T200000
DTEND;TZID=Europe/Brussels:20260918T223000
DTSTAMP:20260425T223430
CREATED:20251226T200056Z
LAST-MODIFIED:20251226T200056Z
UID:4412-1789761600-1789770600@recreationaldiving.be
SUMMARY:RDS Bestuursvergadering
DESCRIPTION:Tijdens de RDS-bestuursvergaderingen staan doorgaans op de agenda: \n\nplanning komende duikuitstappen en duikreizen\nspeciale trainingen (gasttrainingen\, materiaaltrainingen)\norganisatie club-momenten (BBQ\, etentje\, andere uitstappen of activiteiten)\naankoop of onderhoud van (duik-)materiaal voor de club\ndiverse/varia\n\nHeb je als lid van onze club een idee of een voorstel voor een uitstap\, duikactiviteit of training dan mag je dit zeker laten weten aan de bestuursleden tijdens de wekelijkse trainingen of via mailtje aan info@recreationaldiving.be 
URL:https://recreationaldiving.be/activiteit/rds-bestuursvergadering-4/
ATTACH;FMTTYPE=image/png:https://recreationaldiving.be/wp-content/uploads/2025/12/ChatGPT-Image-26-dec-2025-19_25_13.png
END:VEVENT
END:VCALENDAR