BEGIN:VCALENDAR
VERSION:2.0
PRODID:-//Recreational Diving Society - ECPv6.15.20//NONSGML v1.0//EN
CALSCALE:GREGORIAN
METHOD:PUBLISH
X-WR-CALNAME:Recreational Diving Society
X-ORIGINAL-URL:https://recreationaldiving.be
X-WR-CALDESC:Events for Recreational Diving Society
REFRESH-INTERVAL;VALUE=DURATION:PT1H
X-Robots-Tag:noindex
X-PUBLISHED-TTL:PT1H
BEGIN:VTIMEZONE
TZID:Europe/Brussels
BEGIN:DAYLIGHT
TZOFFSETFROM:+0100
TZOFFSETTO:+0200
TZNAME:CEST
DTSTART:20250330T010000
END:DAYLIGHT
BEGIN:STANDARD
TZOFFSETFROM:+0200
TZOFFSETTO:+0100
TZNAME:CET
DTSTART:20251026T010000
END:STANDARD
BEGIN:DAYLIGHT
TZOFFSETFROM:+0100
TZOFFSETTO:+0200
TZNAME:CEST
DTSTART:20260329T010000
END:DAYLIGHT
BEGIN:STANDARD
TZOFFSETFROM:+0200
TZOFFSETTO:+0100
TZNAME:CET
DTSTART:20261025T010000
END:STANDARD
BEGIN:DAYLIGHT
TZOFFSETFROM:+0100
TZOFFSETTO:+0200
TZNAME:CEST
DTSTART:20270328T010000
END:DAYLIGHT
BEGIN:STANDARD
TZOFFSETFROM:+0200
TZOFFSETTO:+0100
TZNAME:CET
DTSTART:20271031T010000
END:STANDARD
END:VTIMEZONE
BEGIN:VEVENT
DTSTART;TZID=Europe/Brussels:20260801T080000
DTEND;TZID=Europe/Brussels:20260801T170000
DTSTAMP:20260425T211219
CREATED:20251226T180004Z
LAST-MODIFIED:20251226T180004Z
UID:4393-1785571200-1785603600@recreationaldiving.be
SUMMARY:Zeeland 'anders' duikdag
DESCRIPTION:Fernand neemt ook begin augustus mee op sleeptouw naar een minder gekende duikstek in Zeeland. \nPraktische afspraken volgen via de Whatsapp. \nInschrijven via info@recreationaldiving.be
URL:https://recreationaldiving.be/activiteit/zeeland-anders-duikdag-2/
LOCATION:Zeeland\, Nederland
ATTACH;FMTTYPE=image/jpeg:https://recreationaldiving.be/wp-content/uploads/2024/06/zeelandbrug.jpg
ORGANIZER;CN="Fernand":MAILTO:f.vandendorpe@skynet.be
END:VEVENT
BEGIN:VEVENT
DTSTART;TZID=Europe/Brussels:20260814T080000
DTEND;TZID=Europe/Brussels:20260823T170000
DTSTAMP:20260425T211219
CREATED:20250922T093342Z
LAST-MODIFIED:20250922T125941Z
UID:4281-1786694400-1787504400@recreationaldiving.be
SUMMARY:Duikreis Kroatië
DESCRIPTION:Onze Europese RDS-reis voor duikseizoen 2026 gaat richting Kroatië. Op het schiereiland Istrië\, in het Noorden van Kroatië\, vindt je de oude stad Pula van waar we langs de kust van de Adriatische Zee duiken\, op de eilanden van Nationaal Park Brijuni en op de mooie wrakken in de buurt. Wrakken die zéker op het programma zullen staan zijn de Baron Gautsch\, de ‘Titanic van de Adriatic’ die  zonk tijdens WO2 en te vinden is voor de kust van Pula op een diepte van 39m tot 28m en de Vis\, een schip van de ‘Yugoslav navy’ die speciaal werd afgezonken als kunstmatig rif voor duikers.\n\nWANNEER\nVan vrijdag 14 augustus tot en met zondag 23 augustus 2026 (zie details ‘transport)\n\n\n\nDUIKPAKKET\nEen gevarieerd duikpakket met 7 dagen duiken bij duikcentrum Puntizela\n\n8 duiken op verschillende plekken langs de kust (riffen\, tunnels\, walls etc.)\n6 wrakduiken inclusief 2 op Baron Gautsch en 1 duik op Vis\n2 kantduiken op huisrif (optioneel voor wie 3 duiken op een dag wil doen)\n2 nachtduiken\n\n= 16 duiken in totaal (7 dagen)\, waarvan 1 bootduik ‘s morgens en 1 in de namiddag.\nKostprijs pakket inclusief gewichten\, fles en lucht: €590 pp (op basis van minstens 8 duikers).\n\n\nACCOMMODATIE\nTen noorden van Pula\, uitkijkend over de eilanden van het Nationaal Park\, vind je camping Brioni waar we ook verschillende “camping homes” voor 4 tot 6 personen kunnen huren. Op deze camping bevindt zich ook duikcentrum Puntizela. Accommodatie en duikcentrum zijn dus op wandelafstand.\nEr zijn verschillende soorten accommodatie mogelijk volgens budget en wensen van de deelnemers (seaside view of niet\, 4 of 6 personen). In overleg ook accommodatie voor 2 personen mogelijk tegen meerprijs.\nKostprijs voor 8 nachten=  €1500 tot €1800 per accommodatie.\nOp basis van 5 personen kost dit (goedkoopste opties) = €350-400/pp\n\n\nTRANSPORT\nAuto: Pula ligt op 1400km rijden van België. Je rijdt dan in 15u (zonder stops) door Duitsland\, Oostenrijk en Slovenië. Voor wie carpoolen\, veel materiaal wil meenemen en tijd heeft…\nVliegtuig: Alternatief vliegt Croatia Airlines in 4u vluchttijd van Brussel via Zagreb naar Pula. De luchthaven is op minder dan 10km van het historische centrum en het duikcentrum. Vluchten zijn momenteel te vinden voor minder dan 250 euro\, 8kg handbagage en 23kg ruimbagage inbegrepen.\nVluchtinformatie:\nvrijdag 14/8 om 9u20 vertrek Brussel – Pula 15u50 aankomst\nzondag 23/8 om 15u15 vertrek Pula – Brussel 19u50 aankomst\n\n\nBREVETVEREISTEN \nDeze reis is geschikt voor duikers vanaf Advanced Open Water brevet\, een Deep-dive brevet is aangeraden maar niet verplicht. Wil je toch de wrakken ten volle verkennen? Volgend jaar wordt binnen de club opnieuw een opleiding Padi Deepdive specialty (duiken tot 40m) voorzien voor wie deze nog wil behalen voor aanvang van de reis.\n\n\nKOSTPRIJS (richtprijs) voor deze duikreis:\nVluchten Brussel – Pula (250 euro)+ duikpakket 7 dagen/16 duiken (590 euro)  + accommodatie (350-400 euro)\n= 1250 euro\n\n\nINSCHRIJVEN\nVia mail naar info@recreationaldiving.be ten laatste op maandag 29 september. Bij inschrijven voorkeur voor accommodatie meegeven aub.\nMaximaal 12 personen (ifv capaciteit van de boot)
URL:https://recreationaldiving.be/activiteit/duikreis-kroatie/
LOCATION:Pula\, Diving Center Puntizela Anton Klenovar Puntizela 155\, Pula\, 52107\, Croatia (Local Name: Hrvatska)
ATTACH;FMTTYPE=image/jpeg:https://recreationaldiving.be/wp-content/uploads/2025/09/BaronGautsch-3587x2391-1-scaled.jpg
ORGANIZER;CN="Johan":MAILTO:johan.stubbe@hotmail.com
END:VEVENT
END:VCALENDAR