BEGIN:VCALENDAR
VERSION:2.0
PRODID:-//Recreational Diving Society - ECPv6.15.20//NONSGML v1.0//EN
CALSCALE:GREGORIAN
METHOD:PUBLISH
X-ORIGINAL-URL:https://recreationaldiving.be
X-WR-CALDESC:Events for Recreational Diving Society
REFRESH-INTERVAL;VALUE=DURATION:PT1H
X-Robots-Tag:noindex
X-PUBLISHED-TTL:PT1H
BEGIN:VTIMEZONE
TZID:Europe/Brussels
BEGIN:DAYLIGHT
TZOFFSETFROM:+0100
TZOFFSETTO:+0200
TZNAME:CEST
DTSTART:20250330T010000
END:DAYLIGHT
BEGIN:STANDARD
TZOFFSETFROM:+0200
TZOFFSETTO:+0100
TZNAME:CET
DTSTART:20251026T010000
END:STANDARD
BEGIN:DAYLIGHT
TZOFFSETFROM:+0100
TZOFFSETTO:+0200
TZNAME:CEST
DTSTART:20260329T010000
END:DAYLIGHT
BEGIN:STANDARD
TZOFFSETFROM:+0200
TZOFFSETTO:+0100
TZNAME:CET
DTSTART:20261025T010000
END:STANDARD
BEGIN:DAYLIGHT
TZOFFSETFROM:+0100
TZOFFSETTO:+0200
TZNAME:CEST
DTSTART:20270328T010000
END:DAYLIGHT
BEGIN:STANDARD
TZOFFSETFROM:+0200
TZOFFSETTO:+0100
TZNAME:CET
DTSTART:20271031T010000
END:STANDARD
END:VTIMEZONE
BEGIN:VEVENT
DTSTART;TZID=Europe/Brussels:20260712T080000
DTEND;TZID=Europe/Brussels:20260712T133000
DTSTAMP:20260425T195508
CREATED:20260121T090747Z
LAST-MODIFIED:20260121T090747Z
UID:4453-1783843200-1783863000@recreationaldiving.be
SUMMARY:Duikdag Dour
DESCRIPTION:We zetten de steengroeve van Dour opnieuw op het programma.\nIn deze leuke kalksteengroeve duik je tussen de verzonken boomstammen en takken en vind je wrakken van bootjes en brommers. Dour is een iets koudere duikstek maar zéker altijd te moeite\, met goede zichtbaarheid en veel leven en begroeiing. Als de zon uitzit dat waan je je in tropisch water (behalve de temperatuur dan). \nPRAKTISCH: \n\nEr is mogelijkheid om 2 duiken te doen tussen 10u en 13u30\nLaatste starttijd (2de duik)= 11u45\nkostprijs 5€ per duik\nflessen kunnen gevuld worden ter plekke (€5 per vulling)\n\nINSCHRIJVEN \nInschrijven voor deze duik via mail naar info@recreationaldiving.be met vermelding van aantal duiken die je wenst te maken. Betaling van de duiken doe je zoals altijd op de RDS rekening met vermelding ‘Dour’.
URL:https://recreationaldiving.be/activiteit/duikdag-dour/
LOCATION:Dour\, dour\, België
ATTACH;FMTTYPE=image/jpeg:https://recreationaldiving.be/wp-content/uploads/2026/01/Bomen-Dour.jpg
END:VEVENT
BEGIN:VEVENT
DTSTART;TZID=Europe/Brussels:20260725T083000
DTEND;TZID=Europe/Brussels:20260725T163000
DTSTAMP:20260425T195508
CREATED:20260122T102946Z
LAST-MODIFIED:20260122T102946Z
UID:4457-1784968200-1784997000@recreationaldiving.be
SUMMARY:Duikdag Ekeren+BBQ
DESCRIPTION:Op 25 juli organiseren we een clubduik in Ekeren. We doen ‘s morgens en ‘s middags een duik. Over de middag genieten we samen van een lekkere BBQ. \nPRAKTISCH: \nAfspraken (carpool\, timing) worden nog doorgegeven via de nieuwsbrief en whatsapp.\nBreng alvast zeker een stoeltje en bestek/bord mee voor de bbq!
URL:https://recreationaldiving.be/activiteit/duikdag-ekerenbbq/
LOCATION:Put van Ekeren\, Ekersedijk\, Antwerpen\, 2030\, België
ATTACH;FMTTYPE=image/jpeg:https://recreationaldiving.be/wp-content/uploads/2020/01/Putvanekeren.jpg
END:VEVENT
BEGIN:VEVENT
DTSTART;TZID=Europe/Brussels:20260730T080000
DTEND;TZID=Europe/Brussels:20260730T170000
DTSTAMP:20260425T195508
CREATED:20251226T195953Z
LAST-MODIFIED:20251226T195953Z
UID:4410-1785398400-1785430800@recreationaldiving.be
SUMMARY:RDS Bestuursvergadering
DESCRIPTION:Tijdens de RDS-bestuursvergaderingen staan doorgaans op de agenda: \n\nplanning komende duikuitstappen en duikreizen\nspeciale trainingen (gasttrainingen\, materiaaltrainingen)\norganisatie club-momenten (BBQ\, etentje\, andere uitstappen of activiteiten)\naankoop of onderhoud van (duik-)materiaal voor de club\ndiverse/varia\n\nHeb je als lid van onze club een idee of een voorstel voor een uitstap\, duikactiviteit of training dan mag je dit zeker laten weten aan de bestuursleden tijdens de wekelijkse trainingen of via mailtje aan info@recreationaldiving.be 
URL:https://recreationaldiving.be/activiteit/rds-bestuursvergadering-3/
ATTACH;FMTTYPE=image/png:https://recreationaldiving.be/wp-content/uploads/2025/12/ChatGPT-Image-26-dec-2025-19_25_13.png
END:VEVENT
END:VCALENDAR