BEGIN:VCALENDAR
VERSION:2.0
PRODID:-//Recreational Diving Society - ECPv6.15.20//NONSGML v1.0//EN
CALSCALE:GREGORIAN
METHOD:PUBLISH
X-WR-CALNAME:Recreational Diving Society
X-ORIGINAL-URL:https://recreationaldiving.be
X-WR-CALDESC:Events for Recreational Diving Society
REFRESH-INTERVAL;VALUE=DURATION:PT1H
X-Robots-Tag:noindex
X-PUBLISHED-TTL:PT1H
BEGIN:VTIMEZONE
TZID:Europe/Brussels
BEGIN:DAYLIGHT
TZOFFSETFROM:+0100
TZOFFSETTO:+0200
TZNAME:CEST
DTSTART:20250330T010000
END:DAYLIGHT
BEGIN:STANDARD
TZOFFSETFROM:+0200
TZOFFSETTO:+0100
TZNAME:CET
DTSTART:20251026T010000
END:STANDARD
BEGIN:DAYLIGHT
TZOFFSETFROM:+0100
TZOFFSETTO:+0200
TZNAME:CEST
DTSTART:20260329T010000
END:DAYLIGHT
BEGIN:STANDARD
TZOFFSETFROM:+0200
TZOFFSETTO:+0100
TZNAME:CET
DTSTART:20261025T010000
END:STANDARD
BEGIN:DAYLIGHT
TZOFFSETFROM:+0100
TZOFFSETTO:+0200
TZNAME:CEST
DTSTART:20270328T010000
END:DAYLIGHT
BEGIN:STANDARD
TZOFFSETFROM:+0200
TZOFFSETTO:+0100
TZNAME:CET
DTSTART:20271031T010000
END:STANDARD
END:VTIMEZONE
BEGIN:VEVENT
DTSTART;TZID=Europe/Brussels:20260503T100000
DTEND;TZID=Europe/Brussels:20260503T120000
DTSTAMP:20260425T172307
CREATED:20260309T081228Z
LAST-MODIFIED:20260309T081228Z
UID:4484-1777802400-1777809600@recreationaldiving.be
SUMMARY:Navigatieduik de Gavers
DESCRIPTION:We starten het duikseizoen in de Gavers met een leuke groepsactiviteit waar velen het koud zweet van zullen krijgen: een navigatieduik. \nVia een boeiend parcours navigeer je naar een wrakje van onder andere een sloepje\, een zeilboot en een brandweerauto. Onderweg kom je ongetwijfeld enkele baarzen\, jonge snoekjes en rivierkreeftjes tegen. \nDeze leuke activiteit is aangeraden voor zowel beginnende als meer ervaren duikers om de navigatievaardigheden op een leuke manier eens op te frissen en aan te scherpen. Je krijgt vooraf nog duidelijke instructies mocht je de basis vergeten zijn. Wie de route juist weet af te leggen wacht een leuke verrassing! \nPraktisch \n9u afspraak carpool parking Loppem\n9u45 afspraak op parking Eikenstraat Harelbeke (bij de molen). Van daar rijden we samen naar de duikersparking.\n10u30-11u30 duikje in buddyteams\n11u30-12u après-duik\nVoor wie wil gaan we samen nog iets eten in de buurt\, af te spreken met de groep. \nBreng alle duikmateriaal\, een volle duikfles\, opgeladen duiklamp en natuurlijk je kompas mee!!! \nInschrijven tegen 26 april via mail naar info@recreationaldiving.be\nMaximaal 20 personen\, dus wacht niet te lang!
URL:https://recreationaldiving.be/activiteit/navigatieduik-de-gavers/
LOCATION:De Gavers\, Meersstraat 3\, Harelbeke\, West-Vlaanderen\, 8530\, België
ATTACH;FMTTYPE=image/jpeg:https://recreationaldiving.be/wp-content/uploads/2021/02/Gavers-luchtfoto.jpg
ORGANIZER;CN="Johan":MAILTO:johan.stubbe@hotmail.com
END:VEVENT
BEGIN:VEVENT
DTSTART;TZID=Europe/Brussels:20260519T203000
DTEND;TZID=Europe/Brussels:20260519T220000
DTSTAMP:20260425T172307
CREATED:20260309T081511Z
LAST-MODIFIED:20260309T081537Z
UID:4486-1779222600-1779228000@recreationaldiving.be
SUMMARY:Initiatie-training
DESCRIPTION:Tijdens deze week zetten we onze geliefde sport in de kijker dmv een open initiatietraining op dinsdag 19 mei in Guilini. We hopen op een grote opkomst van onze leden (jullie!)\, zodat we kandidaat-leden onze passie en leuke clubvibe kunnen tonen! Hoe meer zielen\, hoe meer vreugd!
URL:https://recreationaldiving.be/activiteit/initiatie-training/
LOCATION:Zwembad Guilini\, Keizer Karelstraat 41\, Brugge\, 8000\, België
END:VEVENT
BEGIN:VEVENT
DTSTART;TZID=Europe/Brussels:20260524T080000
DTEND;TZID=Europe/Brussels:20260524T170000
DTSTAMP:20260425T172307
CREATED:20251226T175809Z
LAST-MODIFIED:20260302T121202Z
UID:4391-1779609600-1779642000@recreationaldiving.be
SUMMARY:Sepiaduik
DESCRIPTION:Fernand neemt ons opnieuw op sleeptouw naar een minder gekende duikstek in Zeeland.\nHet is mei dus volop sepia-tijd… wie weet spot je nesten en/of parende koppeltjes tijdens je duik! \nPraktische afspraken volgen via de Whatsapp. \nInschrijven via info@recreationaldiving.be
URL:https://recreationaldiving.be/activiteit/duikdag-zeeland-anders/
LOCATION:Zeeland\, Nederland
ATTACH;FMTTYPE=image/jpeg:https://recreationaldiving.be/wp-content/uploads/2024/01/sepia.jpg
ORGANIZER;CN="Fernand":MAILTO:f.vandendorpe@skynet.be
END:VEVENT
BEGIN:VEVENT
DTSTART;TZID=Europe/Brussels:20260527T080000
DTEND;TZID=Europe/Brussels:20260527T170000
DTSTAMP:20260425T172307
CREATED:20251226T195910Z
LAST-MODIFIED:20251226T195910Z
UID:4408-1779868800-1779901200@recreationaldiving.be
SUMMARY:RDS Bestuursvergaderingen
DESCRIPTION:Tijdens de RDS-bestuursvergaderingen staan doorgaans op de agenda: \n\nplanning komende duikuitstappen en duikreizen\nspeciale trainingen (gasttrainingen\, materiaaltrainingen)\norganisatie club-momenten (BBQ\, etentje\, andere uitstappen of activiteiten)\naankoop of onderhoud van (duik-)materiaal voor de club\ndiverse/varia\n\nHeb je als lid van onze club een idee of een voorstel voor een uitstap\, duikactiviteit of training dan mag je dit zeker laten weten aan de bestuursleden tijdens de wekelijkse trainingen of via mailtje aan info@recreationaldiving.be 
URL:https://recreationaldiving.be/activiteit/rds-bestuursvergaderingen/
ATTACH;FMTTYPE=image/png:https://recreationaldiving.be/wp-content/uploads/2025/12/ChatGPT-Image-26-dec-2025-19_25_13.png
END:VEVENT
BEGIN:VEVENT
DTSTART;TZID=Europe/Brussels:20260528T203000
DTEND;TZID=Europe/Brussels:20260528T220000
DTSTAMP:20260425T172307
CREATED:20260121T084711Z
LAST-MODIFIED:20260121T084711Z
UID:4447-1780000200-1780005600@recreationaldiving.be
SUMMARY:Materiaaltraining LAGO
DESCRIPTION:Op donderdag 28/5 gaat opnieuw een materiaaltraining door in zwembad Olympia.\nDeze training wordt voor zowel ervaren als beginnende duikers aangeraden om de vaardigheden met je duikmateriaal te perfectioneren en zo de duikveiligheid in het algemeen te verhogen. \nHet thema van de materiaaltraining wordt enkele weken op voorhand meegedeeld via de whatsapp.\nJe kunt dan ifv organisatie van de oefeningen je deelname bevestigen. \nPLANNING \n\n20u30 afspraak aan de rand van het zwembad\nklaarmaken duikset\nbriefing over de oefeningen en buddyteams verdelen\n21u start materiaaltraining\nvanaf 21u30 tot 22u over ganse diepte van het zwembad (in samenspraak met Barracuda)\n\nMATERIAAL \n\nvolle duikfles\njacket en ontspanner\nBril-masker-vinnen-lood\nstartende duikers die materiaal willen lenen voor de training kunnen dit op voorhand laten weten aan de instructeurs
URL:https://recreationaldiving.be/activiteit/materiaaltraining-lago-4/
LOCATION:Zwembad Olympia Lago\, Doornstraat 110\, Sint-Andries\, 8200\, België
ATTACH;FMTTYPE=image/jpeg:https://recreationaldiving.be/wp-content/uploads/2024/01/osb-training-transfo.jpg
ORGANIZER;CN="Fernand":MAILTO:f.vandendorpe@skynet.be
END:VEVENT
END:VCALENDAR