BEGIN:VCALENDAR
VERSION:2.0
PRODID:-//Recreational Diving Society - ECPv6.15.20//NONSGML v1.0//EN
CALSCALE:GREGORIAN
METHOD:PUBLISH
X-WR-CALNAME:Recreational Diving Society
X-ORIGINAL-URL:https://recreationaldiving.be
X-WR-CALDESC:Events for Recreational Diving Society
REFRESH-INTERVAL;VALUE=DURATION:PT1H
X-Robots-Tag:noindex
X-PUBLISHED-TTL:PT1H
BEGIN:VTIMEZONE
TZID:Europe/Brussels
BEGIN:DAYLIGHT
TZOFFSETFROM:+0100
TZOFFSETTO:+0200
TZNAME:CEST
DTSTART:20250330T010000
END:DAYLIGHT
BEGIN:STANDARD
TZOFFSETFROM:+0200
TZOFFSETTO:+0100
TZNAME:CET
DTSTART:20251026T010000
END:STANDARD
BEGIN:DAYLIGHT
TZOFFSETFROM:+0100
TZOFFSETTO:+0200
TZNAME:CEST
DTSTART:20260329T010000
END:DAYLIGHT
BEGIN:STANDARD
TZOFFSETFROM:+0200
TZOFFSETTO:+0100
TZNAME:CET
DTSTART:20261025T010000
END:STANDARD
BEGIN:DAYLIGHT
TZOFFSETFROM:+0100
TZOFFSETTO:+0200
TZNAME:CEST
DTSTART:20270328T010000
END:DAYLIGHT
BEGIN:STANDARD
TZOFFSETFROM:+0200
TZOFFSETTO:+0100
TZNAME:CET
DTSTART:20271031T010000
END:STANDARD
END:VTIMEZONE
BEGIN:VEVENT
DTSTART;TZID=Europe/Brussels:20260325T190000
DTEND;TZID=Europe/Brussels:20260325T210000
DTSTAMP:20260425T172307
CREATED:20260309T075747Z
LAST-MODIFIED:20260309T080002Z
UID:4478-1774465200-1774472400@recreationaldiving.be
SUMMARY:Workshop Onderwater Fotografie
DESCRIPTION:Workshop OW fotografie\nWil je je fotografieskills verfijnen? Of voor het eerst proberen al dat moois onder water vast te leggen? Dan is deze workshop zeker iets voor jou! Begeleid door Lieselot en Fernand\, gaan we dieper in op verschillende aspecten van onderwaterfotografie.\nWe bekijken oa compositie\, witbalans\, macro- en groothoekfotografie\, camerabediening\, -instellingen\, externe belichting en tal van praktische tips.\nDe workshop richt zich vooral op het gebruik van de Olympus TG-6 onderwatercamera en is geschikt voor zowel nieuwsgierige beginners als voor fotografen met al wat meer ervaring. Een basiskennis van fotografie is wel aangewezen. Als je een camera hebt\, breng het dan zeker mee zodat je de tips meteen in de praktijk kan brengen!\nInschrijven verplicht via mail of bericht.\n\nPraktisch:\nDe workshop duurt van 19u tot 22u.\nLocatie wordt nog meegedeeld (afh van aantal deelnemers)\nInschrijven voor 18 maart via whatsapp of  info@recreationaldiving.be.
URL:https://recreationaldiving.be/activiteit/workshop-onderwater-fotografie/
ATTACH;FMTTYPE=image/jpeg:https://recreationaldiving.be/wp-content/uploads/2026/03/images-14.jpg
ORGANIZER;CN="Fernand":MAILTO:f.vandendorpe@skynet.be
END:VEVENT
END:VCALENDAR