BEGIN:VCALENDAR
VERSION:2.0
PRODID:-//Recreational Diving Society - ECPv6.15.20//NONSGML v1.0//EN
CALSCALE:GREGORIAN
METHOD:PUBLISH
X-ORIGINAL-URL:https://recreationaldiving.be
X-WR-CALDESC:Events for Recreational Diving Society
REFRESH-INTERVAL;VALUE=DURATION:PT1H
X-Robots-Tag:noindex
X-PUBLISHED-TTL:PT1H
BEGIN:VTIMEZONE
TZID:Europe/Brussels
BEGIN:DAYLIGHT
TZOFFSETFROM:+0100
TZOFFSETTO:+0200
TZNAME:CEST
DTSTART:20240331T010000
END:DAYLIGHT
BEGIN:STANDARD
TZOFFSETFROM:+0200
TZOFFSETTO:+0100
TZNAME:CET
DTSTART:20241027T010000
END:STANDARD
BEGIN:DAYLIGHT
TZOFFSETFROM:+0100
TZOFFSETTO:+0200
TZNAME:CEST
DTSTART:20250330T010000
END:DAYLIGHT
BEGIN:STANDARD
TZOFFSETFROM:+0200
TZOFFSETTO:+0100
TZNAME:CET
DTSTART:20251026T010000
END:STANDARD
BEGIN:DAYLIGHT
TZOFFSETFROM:+0100
TZOFFSETTO:+0200
TZNAME:CEST
DTSTART:20260329T010000
END:DAYLIGHT
BEGIN:STANDARD
TZOFFSETFROM:+0200
TZOFFSETTO:+0100
TZNAME:CET
DTSTART:20261025T010000
END:STANDARD
END:VTIMEZONE
BEGIN:VEVENT
DTSTART;TZID=Europe/Brussels:20250906T080000
DTEND;TZID=Europe/Brussels:20250906T170000
DTSTAMP:20260426T011744
CREATED:20250322T184341Z
LAST-MODIFIED:20250831T062557Z
UID:4142-1757145600-1757178000@recreationaldiving.be
SUMMARY:duikdag Zeeland
DESCRIPTION:We organiseren 6 september een duikdag naar Zeeland\, met twee duiken op het programma. De duiklocaties worden afgestemd op de deelnemers en zijn geschikt voor beginnende én ervaren duikers. We duiken in het Grevelingenmeer of de Oosterschelde\, afhankelijk van de interesse. Er is ook mogelijkheid tot een fotografie-duik voor wie zijn camera wil meenemen! \n🚗 Carpooling wordt geregeld\, dus geef zeker aan of je wil meerijden of zelf rijdt. \n📱 Interesse? Stuur een berichtje naar info\, Jietse  of Annelies\, of kom in het WhatsApp-groepje voor alle updates. \n🍽️ Tussen de duiken proberen we samen iets te gaan eten. \nLaat ons snel weten of je mee wil – hoe meer duikers\, hoe meer plezier!
URL:https://recreationaldiving.be/activiteit/duikdag-zeeland/
LOCATION:Zeeland\, Nederland
ATTACH;FMTTYPE=image/png:https://recreationaldiving.be/wp-content/uploads/2025/03/download-1-e1756621549101.png
ORGANIZER;CN="Johan":MAILTO:johan.stubbe@hotmail.com
END:VEVENT
BEGIN:VEVENT
DTSTART;TZID=Europe/Brussels:20250916T210000
DTEND;TZID=Europe/Brussels:20250916T220000
DTSTAMP:20260426T011744
CREATED:20250831T063238Z
LAST-MODIFIED:20250831T063249Z
UID:4262-1758056400-1758060000@recreationaldiving.be
SUMMARY:Gasttraining Guilini door Jietse
DESCRIPTION:Deze maand verzorgt Jietse\, die wel gekend is als een fan van gezelschapsspelletjes\, voor ons een speciale gasttraining met als thema: “Dobbel &….”\nAfspraak zoals altijd om 20u45 in het zwembad zodat we tijdig kunnen starten met de training van 21u tot 22u.\nNadien genieten we na in de Stoepa om na te praten bij ene drankje.
URL:https://recreationaldiving.be/activiteit/gasttraining-guilini-7/
LOCATION:Zwembad Guilini\, Keizer Karelstraat 41\, Brugge\, 8000\, België
ATTACH;FMTTYPE=image/jpeg:https://recreationaldiving.be/wp-content/uploads/2025/08/Rolling-Dice.jpg
END:VEVENT
BEGIN:VEVENT
DTSTART;TZID=Europe/Brussels:20250919T190000
DTEND;TZID=Europe/Brussels:20250919T213000
DTSTAMP:20260426T011744
CREATED:20250322T190605Z
LAST-MODIFIED:20250831T063300Z
UID:4149-1758308400-1758317400@recreationaldiving.be
SUMMARY:Avondduik Forme IV Duinkerke
DESCRIPTION:We gaan terug duiken in de Duinkerkse haven! Dit doen we bij valavond\, dus breng zeker een goede (en opgeladen) duiklamp mee.\n\nAfspraak om 19u ter plaatse. (Route de l’Ecluse-Tristram\, Duinkerke)\nOfwel 18u15 aan carpoolparking van Loppem\nVoor de after-dive\, brengt iedereen iets van drank of versnaperingen mee.\ninschrijvingen via info@recreationaldiving.be
URL:https://recreationaldiving.be/activiteit/avondduik-forme-iv-duinkerke-2/
LOCATION:Forme IV\, Route de l'Écluse Trystram\, Dunkerque\, 59140\, Frankrijk
ATTACH;FMTTYPE=image/jpeg:https://recreationaldiving.be/wp-content/uploads/2021/02/duinkerke.jpg
END:VEVENT
BEGIN:VEVENT
DTSTART;TZID=Europe/Brussels:20250921T070000
DTEND;TZID=Europe/Brussels:20250921T193000
DTSTAMP:20260426T011744
CREATED:20250322T190819Z
LAST-MODIFIED:20250830T203249Z
UID:4151-1758438000-1758483000@recreationaldiving.be
SUMMARY:Duikdag Boschmolenplas
DESCRIPTION:Als afsluiter voor het duikseizoen (behalve voor wie nog reizen gepland heeft) bezoeken we met de club duiklocatie BOSCHMOLENPLAS. \nDe Boschmolenplas is een zoetwatermeer\, één van de vele Maasplassen\, waar er behoorlijk wat leven in zit: kreeftjes\, snoek\, baars\, karper… MAAR het is ook een grote duikstek\, met 4 instapplaatsen en bij iedere duikplek verschillende afgezonken voorwerpen. Zo vindt je er meerdere bootwrakken\, een helicopter\, een reeks beelden maar ook enkele gezonken zeevaartcontainers waar je doorheen kan duiken of ene metalen Minion-figuurtje van ruim 8m groot. Kortom een duikstek waar je met plezier méér dan één duikje doet 😀 \nKortom een zéér leuke gevarieerde duikstek die zowel uiterst geschikt is voor de beginnende duikers als voor de zeer ervaren duikers. \nPLANNING\n7u vertrek regio Brugge (carpool Loppem)\n9u30 aankomst/ duikstek open\nWe doen één duikje in de voormiddag en na de lunch nog 1 OF (voor de liefhebbers) 2 duiken.\nAantal duiken wordt in detail besproken met deelnemers ifv buddy- en carpool afspraken. \nLUNCH Kun je ofwel ter plekke kopen (beperkte kaart = soep en broodjes) of breng je zelf mee. \nDUIKMATERIAAL\nDuikmateriaal kan indien nodig ter plekke gehuurd worden (voor wie niet alles heeft).\nFlessen vullen tussen de duiken kan ook ter plekke.\nLet op! Er wordt streng toegezien op keuring en veiligheid van de duikflessen. \nKOSTPRIJS\nToegangsticket tot de duikstek kost 14 euro per duiker\, CASH te betalen bij het oprijden van de parking.\nMet dit toegangsticket mag je duiken tussen 9u en 17u. Er kunnen dus meerdere duiken gedaan worden tijdens deze uitstap!
URL:https://recreationaldiving.be/activiteit/duikdag-boschmolenplas/
LOCATION:Boschmolenplas\, Bosmolenweg 3\, 6097 NG Heel\, Nederland
ATTACH;FMTTYPE=image/jpeg:https://recreationaldiving.be/wp-content/uploads/2025/03/boschmolen.jpg
ORGANIZER;CN="Johan":MAILTO:johan.stubbe@hotmail.com
END:VEVENT
END:VCALENDAR