BEGIN:VCALENDAR
VERSION:2.0
PRODID:-//Recreational Diving Society - ECPv6.15.20//NONSGML v1.0//EN
CALSCALE:GREGORIAN
METHOD:PUBLISH
X-WR-CALNAME:Recreational Diving Society
X-ORIGINAL-URL:https://recreationaldiving.be
X-WR-CALDESC:Events for Recreational Diving Society
REFRESH-INTERVAL;VALUE=DURATION:PT1H
X-Robots-Tag:noindex
X-PUBLISHED-TTL:PT1H
BEGIN:VTIMEZONE
TZID:Europe/Brussels
BEGIN:DAYLIGHT
TZOFFSETFROM:+0100
TZOFFSETTO:+0200
TZNAME:CEST
DTSTART:20240331T010000
END:DAYLIGHT
BEGIN:STANDARD
TZOFFSETFROM:+0200
TZOFFSETTO:+0100
TZNAME:CET
DTSTART:20241027T010000
END:STANDARD
BEGIN:DAYLIGHT
TZOFFSETFROM:+0100
TZOFFSETTO:+0200
TZNAME:CEST
DTSTART:20250330T010000
END:DAYLIGHT
BEGIN:STANDARD
TZOFFSETFROM:+0200
TZOFFSETTO:+0100
TZNAME:CET
DTSTART:20251026T010000
END:STANDARD
BEGIN:DAYLIGHT
TZOFFSETFROM:+0100
TZOFFSETTO:+0200
TZNAME:CEST
DTSTART:20260329T010000
END:DAYLIGHT
BEGIN:STANDARD
TZOFFSETFROM:+0200
TZOFFSETTO:+0100
TZNAME:CET
DTSTART:20261025T010000
END:STANDARD
END:VTIMEZONE
BEGIN:VEVENT
DTSTART;VALUE=DATE:20250628
DTEND;VALUE=DATE:20250706
DTSTAMP:20260426T040457
CREATED:20250313T071157Z
LAST-MODIFIED:20250313T071643Z
UID:4130-1751068800-1751759999@recreationaldiving.be
SUMMARY:Duikreis l'Escala
DESCRIPTION:Begin zomer ’25 plannen we een duikreis naar l’Escala in Spanje\, naar de beste duikplekken van de Costa Brava!  \nKlaar voor prachtige scholen barracuda’s\, grote tandbaarzen\, adelaarsroggen\, murenen\, schorpioenvissen\, een grote variatie aan grotten\, en prachtige koraalriffen? Sign up! \nHet idee is 3 dagen op het Montgri Coast National Park te duiken\, en 2 dagen vanuit Estartit naar de Medes eilanden te varen voor nóg mooiere duiken. 1 dag is vrij om te chillen\, Barcelona te bezoeken\, of voor de diehards nog wat extra duiken te loggen. \nWANNEER Zaterdag 28juni tot 5juli \n PROGRAMMA \n\n7 bootduiken op Montgri Coast NP\n3 bootduiken op de Medeseilanden\n1 dag: eigen keuze: bezoek Barcelona? Chill dagje? Extra duik?\n\nWie wil kan hierbuiten ook nog extra duiken op het huisrif in Mateua\, of indien gewenst kunnen ook extra bootduiken geboekt worden. \nOvernachten doen we in de bungalows van camping illa mateua \nBREVETVEREISTEN Minstens Padi AOW of 2*duiker \nRICHTPRIJS 600€ voor 10duiken + overnachting\n(excl: maaltijden\, transport\, nitrox supplement\,..)
URL:https://recreationaldiving.be/activiteit/duikreis-lescala/
ATTACH;FMTTYPE=image/jpeg:https://recreationaldiving.be/wp-content/uploads/2025/03/image-1024x528-1.jpeg
END:VEVENT
BEGIN:VEVENT
DTSTART;TZID=Europe/Brussels:20250719T140000
DTEND;TZID=Europe/Brussels:20250719T170000
DTSTAMP:20260426T040457
CREATED:20250619T094400Z
LAST-MODIFIED:20250627T084652Z
UID:4188-1752933600-1752944400@recreationaldiving.be
SUMMARY:Koude Keuken clean-up duik
DESCRIPTION:Op zaterdag 19 juli tonen we ons hart voor de natuur opnieuw tijdens deze tweede clean-up duik in de Koude Keuken.\nBedoeling is om in groepjes bepaalde zones van de duikstek ‘op te ruimen’. Alle gevonden afval wordt veilig bovengehaald en in de daartoe bestemde container geplaatst.\nZowel duikers als kant-vrijwilligers zijn welkom! \nPLANNING \nAfspraak om 14u aan Domein Koude keuken.\nRond 14u30-15u gaan we het sop in op zoek naar afval.\nOm 17u bieden we alle deelnemers heerlijke maaltijd spaghetti en een glaasje wijn aan. \nINSCHRIJVEN via mail naar info@recreationaldiving.be met vermelding of je zal DUIKEN of helpt met afval te verwerken AAN DE KANT
URL:https://recreationaldiving.be/activiteit/koude-keuken-clean-up-duik/
LOCATION:koude keuken\, Fazantenlaan\, Sint-Andries\, 8200\, België
ATTACH;FMTTYPE=image/jpeg:https://recreationaldiving.be/wp-content/uploads/2025/06/de-duikers-met-de-vangst-van-hun-schoonmaak-in-de-vijver.jpg
END:VEVENT
BEGIN:VEVENT
DTSTART;TZID=Europe/Brussels:20250726T073000
DTEND;TZID=Europe/Brussels:20250726T203000
DTSTAMP:20260426T040457
CREATED:20250313T071614Z
LAST-MODIFIED:20250627T084345Z
UID:4134-1753515000-1753561800@recreationaldiving.be
SUMMARY:Duikdag Zeeland
DESCRIPTION:Ben je klaar voor een nieuw duikavontuur buiten de gebaande paden? Dit jaar ruilen we de bekende wateren rond de Zeelandbrug in voor de minder bedoken\, maar o zo charmante regio Tholen! \nHet geplande DUIKWEEKEND is afgelast. In de plaats wordt een DUIKDAG georganiseerd naar Tholen. \nWANNEER zaterdag 26 juli 2025\nPLANNING volgt later in samenspraak met de geïnteresseerden. \nINSCHRIJVING dmv email naar info@recreationaldiving.be
URL:https://recreationaldiving.be/activiteit/duikzeewekend-zeeland/
LOCATION:Zeeland\, Nederland
ATTACH;FMTTYPE=image/jpeg:https://recreationaldiving.be/wp-content/uploads/2024/06/zeelandbrug.jpg
END:VEVENT
END:VCALENDAR